BEGIN:VCALENDAR
VERSION:2.0
CALSCALE:GREGORIAN
BEGIN:VEVENT
DTSTART;TZID=America/New_York:20260409T170000
DTEND;TZID=America/New_York:20260409T193000
SUMMARY:book talk with dr. bright ohene
DESCRIPTION:Dummy Author and Dr. Bright Ohene is leading a discussion of his book “Hands, Chopsticks, Forks &amp; Knives: Digesting Global Socioeconomic and Geopolitical Power Dynamics”. Using historical food practices as a framework, participants will learn about global studies, interconnected cultures, and social justice. This book talk is free, and open to all.\n\nMore info: https://cambridgekiosk.org/events/book-talk-with-bright-ohene/
LOCATION:0 Harvard Square\, Cambridge\, MA
END:VEVENT
END:VCALENDAR