BEGIN:VCALENDAR
VERSION:2.0
CALSCALE:GREGORIAN
BEGIN:VEVENT
DTSTART;TZID=America/New_York:20260411T173000
DTEND;TZID=America/New_York:20260411T183000
SUMMARY:t4t workshop: Bodies in Space
DESCRIPTION:Dummy Join author Calvin Gimpelevich for a writing workshop around how to describe the impact of physical space on different kinds of bodies, while dreaming of more inclusive spaces for them.\n\nMore info: https://cambridgekiosk.org/events/t4t-workshop-bodies-in-space/
LOCATION:0 Harvard Square\, Cambridge\, MA
END:VEVENT
END:VCALENDAR