BEGIN:VCALENDAR
VERSION:2.0
CALSCALE:GREGORIAN
BEGIN:VEVENT
DTSTART;TZID=America/New_York:20260424T183000
DTEND;TZID=America/New_York:20260424T193000
SUMMARY:SIlly sh*t variety Show
DESCRIPTION:Dummy Silly Sh*t Variety Show is a one‑hour, no‑intermission variety chaos for misfits, queer folks, and creative outsiders. Serving up a rotating lineup of stand‑up, musical comedy, drag, clown, storytelling, and whatever else we’re unhinged enough to book &#8211; plus a safe, welcoming space to actually be your weird self!\n\nMore info: https://cambridgekiosk.org/events/silly-sht-variety-show-2/
LOCATION:0 Harvard Square\, Cambridge\, MA
END:VEVENT
END:VCALENDAR