BEGIN:VCALENDAR
VERSION:2.0
CALSCALE:GREGORIAN
BEGIN:VEVENT
DTSTART;TZID=America/New_York:20260421T130000
DTEND;TZID=America/New_York:20260421T150000
SUMMARY:Through Their Eyes: A Photowalk for Kids and Caregivers in Harvard Square
DESCRIPTION:Dummy What does Harvard Square look like through the eyes of children? What do children notice? We’ll give your child a disposable camera and spend an hour walking through Harvard Square, then come back together for a snack and story! Later this Spring, we’ll curate the photographs for an art show for the community at [&hellip;]\n\nMore info: https://cambridgekiosk.org/events/through-their-eyes-a-photowalk-for-kids-and-caregivers-in-harvard-square/
LOCATION:0 Harvard Square\, Cambridge\, MA
END:VEVENT
END:VCALENDAR