BEGIN:VCALENDAR
VERSION:2.0
CALSCALE:GREGORIAN
BEGIN:VEVENT
DTSTART;TZID=America/New_York:20260419T140000
DTEND;TZID=America/New_York:20260419T143500
SUMMARY:60 years of passing the lamp honoring a 100 year legacy: opening ceremony
DESCRIPTION:Dummy 60 Years of Passing the Light: Honoring a 100-Year Legacy is a commemorative photo exhibition celebrating the far-reaching values and global influence of Fo Guang Shan. The exhibition which will last 3 days traces a century-long journey of compassion and service, highlighting six decades of growth, community engagement, and the sharing of knowledge across [&hellip;]\n\nMore info: https://cambridgekiosk.org/events/60-years-of-passing-the-lamp-honoring-a-100-year-legacy/
LOCATION:0 Harvard Square\, Cambridge\, MA
END:VEVENT
END:VCALENDAR